BEGIN:VCALENDAR
VERSION:2.0
PRODID:spatie/icalendar-generator
DESCRIPTION:Events from Coysion
X-WR-CALDESC:Events from Coysion
REFRESH-INTERVAL;VALUE=DURATION:PT1440M
X-PUBLISHED-TTL:PT1440M
BEGIN:VTIMEZONE
TZID:America/Argentina/Jujuy
BEGIN:STANDARD
DTSTART:20230528T100000Z
TZOFFSETFROM:-0300
TZOFFSETTO:-0300
END:STANDARD
END:VTIMEZONE
BEGIN:VTIMEZONE
TZID:UTC
BEGIN:STANDARD
DTSTART:20250724T104603Z
TZOFFSETFROM:+0000
TZOFFSETTO:+0000
END:STANDARD
END:VTIMEZONE
BEGIN:VEVENT
UID:7-6
DTSTAMP:20260420T104603Z
SUMMARY:mesa eet1 Zegada
LOCATION:
ORGANIZER;CN=marcelo.coca.08@gmail.com:MAILTO:marcelo.coca.08@gmail.com
DTSTART;TZID=America/Argentina/Jujuy:20240222T100000
DTEND;TZID=America/Argentina/Jujuy:20240222T120000
X-ALT-DESC;FMTTYPE=TEXT/HTML:Instrumentación y Control - 4°1°- 4°3° - 
 Arrueta Alfredo-Coca Marcelo-Tito Ruben
CATEGORIES:Mesa-EET1-Zegada
URL;VALUE=URI:https://coysion.net/mc-events/mesa-eet1-zegada-4/
METHOD:PUBLISH
END:VEVENT
END:VCALENDAR